Package: mgsa
Version: 1.52.0
Command: /Library/Frameworks/R.framework/Resources/bin/R CMD check --install=check:mgsa.install-out.txt --library=/Library/Frameworks/R.framework/Resources/library --no-vignettes --timings mgsa_1.52.0.tar.gz
StartedAt: 2024-10-18 03:48:10 -0400 (Fri, 18 Oct 2024)
EndedAt: 2024-10-18 03:49:03 -0400 (Fri, 18 Oct 2024)
EllapsedTime: 53.8 seconds
RetCode: 0
Status: WARNINGS
CheckDir: mgsa.Rcheck
Warnings: 1