Package: mgsa
Version: 1.52.0
Command: rm -rf mgsa.buildbin-libdir && mkdir mgsa.buildbin-libdir && /Users/biocbuild/BBS/utils/build-universal.sh mgsa_1.52.0.tar.gz /Library/Frameworks/R.framework/Resources/bin/R mgsa.buildbin-libdir
StartedAt: 2024-10-18 19:25:23 -0400 (Fri, 18 Oct 2024)
EndedAt: 2024-10-18 19:25:37 -0400 (Fri, 18 Oct 2024)
EllapsedTime: 13.6 seconds
RetCode: 0
Status: OK
PackageFile: mgsa_1.52.0.tgz
PackageFileSize: 544.3 <A href="http://en.wikipedia.org/wiki/KiB" target="_blank">KiB</A>