Package: mfa
Version: 1.26.0
Command: /home/biocbuild/R/R-beta-2024-04-15_r86425/bin/R CMD check --install=check:mfa.install-out.txt --library=/home/biocbuild/R/R-beta-2024-04-15_r86425/site-library --no-vignettes --timings mfa_1.26.0.tar.gz
StartedAt: 2024-05-09 09:21:09 -0000 (Thu, 09 May 2024)
EndedAt: 2024-05-09 09:22:38 -0000 (Thu, 09 May 2024)
EllapsedTime: 88.2 seconds
RetCode: 0
Status: OK
CheckDir: mfa.Rcheck
Warnings: 0