Package: mfa
Version: 1.26.0
Command: /Library/Frameworks/R.framework/Resources/bin/R CMD build --keep-empty-dirs --no-resave-data mfa
StartedAt: 2024-06-10 00:30:35 -0400 (Mon, 10 Jun 2024)
EndedAt: 2024-06-10 00:31:43 -0400 (Mon, 10 Jun 2024)
EllapsedTime: 67.8 seconds
RetCode: 0
Status: OK
PackageFile: mfa_1.26.0.tar.gz
PackageFileSize: 549.2 <A href="http://en.wikipedia.org/wiki/KiB" target="_blank">KiB</A>