Package: mfa
Version: 1.26.0
Command: rm -rf mfa.buildbin-libdir && mkdir mfa.buildbin-libdir && /Users/biocbuild/BBS/utils/build-universal.sh mfa_1.26.0.tar.gz /Library/Frameworks/R.framework/Resources/bin/R mfa.buildbin-libdir
StartedAt: 2024-06-11 12:01:50 -0400 (Tue, 11 Jun 2024)
EndedAt: 2024-06-11 12:02:25 -0400 (Tue, 11 Jun 2024)
EllapsedTime: 34.3 seconds
RetCode: 0
Status: OK
PackageFile: mfa_1.26.0.tgz
PackageFileSize: 653.5 <A href="http://en.wikipedia.org/wiki/KiB" target="_blank">KiB</A>