Package: methylclock Version: 1.10.0 Command: E:\biocbuild\bbs-3.19-bioc\R\bin\R.exe CMD INSTALL methylclock StartedAt: 2024-10-16 17:18:30 -0400 (Wed, 16 Oct 2024) EndedAt: 2024-10-16 17:20:08 -0400 (Wed, 16 Oct 2024) EllapsedTime: 97.4 seconds RetCode: 0 Status: OK