Package: methylclock
Version: 1.10.0
Command: chmod a+r methylclock -R && E:\biocbuild\bbs-3.19-bioc\R\bin\R.exe CMD build --keep-empty-dirs --no-resave-data methylclock
StartedAt: 2024-10-16 20:13:31 -0400 (Wed, 16 Oct 2024)
EndedAt: 2024-10-16 20:24:15 -0400 (Wed, 16 Oct 2024)
EllapsedTime: 644.0 seconds
RetCode: 0
Status: OK
PackageFile: methylclock_1.10.0.tar.gz
PackageFileSize: 628.1 <A href="http://en.wikipedia.org/wiki/KiB" target="_blank">KiB</A>