Package: methylclock
Version: 1.10.0
Command: /Library/Frameworks/R.framework/Resources/bin/R CMD build --keep-empty-dirs --no-resave-data methylclock
StartedAt: 2024-10-16 20:44:59 -0400 (Wed, 16 Oct 2024)
EndedAt: 2024-10-16 21:12:55 -0400 (Wed, 16 Oct 2024)
EllapsedTime: 1676.7 seconds
RetCode: 0
Status: OK
PackageFile: methylclock_1.10.0.tar.gz
PackageFileSize: 960.1 <A href="http://en.wikipedia.org/wiki/KiB" target="_blank">KiB</A>