Package: methylPipe
Version: 1.38.0
Command: /Library/Frameworks/R.framework/Resources/bin/R CMD build --keep-empty-dirs --no-resave-data methylPipe
StartedAt: 2024-10-17 04:17:16 -0400 (Thu, 17 Oct 2024)
EndedAt: 2024-10-17 04:20:21 -0400 (Thu, 17 Oct 2024)
EllapsedTime: 185.3 seconds
RetCode: 0
Status: OK
PackageFile: methylPipe_1.38.0.tar.gz
PackageFileSize: 792.5 <A href="http://en.wikipedia.org/wiki/KiB" target="_blank">KiB</A>