Package: methylPipe
Version: 1.38.0
Command: rm -rf methylPipe.buildbin-libdir && mkdir methylPipe.buildbin-libdir && /Users/biocbuild/BBS/utils/build-universal.sh methylPipe_1.38.0.tar.gz /Library/Frameworks/R.framework/Resources/bin/R methylPipe.buildbin-libdir
StartedAt: 2024-10-18 19:23:49 -0400 (Fri, 18 Oct 2024)
EndedAt: 2024-10-18 19:25:06 -0400 (Fri, 18 Oct 2024)
EllapsedTime: 77.0 seconds
RetCode: 0
Status: OK
PackageFile: methylPipe_1.38.0.tgz
PackageFileSize: 1.482 <A href="http://en.wikipedia.org/wiki/MiB" target="_blank">MiB</A>