Package: methylKit
Version: 1.30.0
Maintainer: Altuna Akalin <aakalin@gmail.com>, Alexander Blume
MaintainerEmail: alex.gos90 at gmail.com
git_url: https://git.bioconductor.org/packages/methylKit
git_branch: RELEASE_3_19
git_last_commit: 5da1987
git_last_commit_date: 2024-04-30 10:52:20 -0400 (Tue, 30 Apr 2024)