Package: methrix
Version: 1.18.0
Maintainer: Anand Mayakonda
MaintainerEmail: anand_mt at hotmail.com
git_url: https://git.bioconductor.org/packages/methrix
git_branch: RELEASE_3_19
git_last_commit: e5e8731
git_last_commit_date: 2024-04-30 11:18:55 -0400 (Tue, 30 Apr 2024)