Package: metapone
Version: 1.10.0
Command: /Library/Frameworks/R.framework/Resources/bin/R CMD check --install=check:metapone.install-out.txt --library=/Library/Frameworks/R.framework/Resources/library --no-vignettes --timings metapone_1.10.0.tar.gz
StartedAt: 2024-06-09 21:24:12 -0400 (Sun, 09 Jun 2024)
EndedAt: 2024-06-09 21:27:57 -0400 (Sun, 09 Jun 2024)
EllapsedTime: 225.6 seconds
RetCode: 0
Status: OK
CheckDir: metapone.Rcheck
Warnings: 0