Package: metabCombiner
Version: 1.14.0
Command: /home/biocbuild/bbs-3.19-bioc/R/bin/R CMD INSTALL metabCombiner
StartedAt: 2024-10-16 16:35:40 -0400 (Wed, 16 Oct 2024)
EndedAt: 2024-10-16 16:35:56 -0400 (Wed, 16 Oct 2024)
EllapsedTime: 15.9 seconds
RetCode: 0
Status: OK