Package: metabCombiner
Version: 1.14.0
Command: /home/biocbuild/bbs-3.19-bioc/R/bin/R CMD check --install=check:metabCombiner.install-out.txt --library=/home/biocbuild/bbs-3.19-bioc/R/site-library --timings metabCombiner_1.14.0.tar.gz
StartedAt: 2024-10-17 02:10:24 -0400 (Thu, 17 Oct 2024)
EndedAt: 2024-10-17 02:12:42 -0400 (Thu, 17 Oct 2024)
EllapsedTime: 138.3 seconds
RetCode: 0
Status: OK
CheckDir: metabCombiner.Rcheck
Warnings: 0