Package: metabCombiner
Version: 1.14.0
Command: /Library/Frameworks/R.framework/Resources/bin/R CMD build --keep-empty-dirs --no-resave-data metabCombiner
StartedAt: 2024-06-09 23:59:21 -0400 (Sun, 09 Jun 2024)
EndedAt: 2024-06-10 00:00:17 -0400 (Mon, 10 Jun 2024)
EllapsedTime: 56.1 seconds
RetCode: 0
Status: OK
PackageFile: metabCombiner_1.14.0.tar.gz
PackageFileSize: 2.55 <A href="http://en.wikipedia.org/wiki/MiB" target="_blank">MiB</A>