Package: metabCombiner
Version: 1.14.0
Command: /Library/Frameworks/R.framework/Resources/bin/R CMD check --install=check:metabCombiner.install-out.txt --library=/Library/Frameworks/R.framework/Resources/library --no-vignettes --timings metabCombiner_1.14.0.tar.gz
StartedAt: 2024-10-18 03:06:03 -0400 (Fri, 18 Oct 2024)
EndedAt: 2024-10-18 03:08:44 -0400 (Fri, 18 Oct 2024)
EllapsedTime: 161.4 seconds
RetCode: 0
Status: OK
CheckDir: metabCombiner.Rcheck
Warnings: 0