Package: metabCombiner
Version: 1.14.0
Command: /Library/Frameworks/R.framework/Resources/bin/R CMD build --keep-empty-dirs --no-resave-data metabCombiner
StartedAt: 2024-10-17 03:46:36 -0400 (Thu, 17 Oct 2024)
EndedAt: 2024-10-17 03:47:15 -0400 (Thu, 17 Oct 2024)
EllapsedTime: 39.2 seconds
RetCode: 0
Status: OK
PackageFile: metabCombiner_1.14.0.tar.gz
PackageFileSize: 2.55 <A href="http://en.wikipedia.org/wiki/MiB" target="_blank">MiB</A>