Package: metaCCA
Version: 1.32.0
Command: E:\biocbuild\bbs-3.19-bioc\R\bin\R.exe CMD check --no-multiarch --install=check:metaCCA.install-out.txt --library=E:\biocbuild\bbs-3.19-bioc\R\library --no-vignettes --timings metaCCA_1.32.0.tar.gz
StartedAt: 2024-10-17 03:05:38 -0400 (Thu, 17 Oct 2024)
EndedAt: 2024-10-17 03:06:06 -0400 (Thu, 17 Oct 2024)
EllapsedTime: 28.4 seconds
RetCode: 0
Status: WARNINGS
CheckDir: metaCCA.Rcheck
Warnings: 1