Package: metaCCA
Version: 1.32.0
Command: chmod a+r metaCCA -R && E:\biocbuild\bbs-3.19-bioc\R\bin\R.exe CMD build --keep-empty-dirs --no-resave-data metaCCA
StartedAt: 2024-10-16 20:10:15 -0400 (Wed, 16 Oct 2024)
EndedAt: 2024-10-16 20:10:30 -0400 (Wed, 16 Oct 2024)
EllapsedTime: 15.4 seconds
RetCode: 0
Status: OK
PackageFile: metaCCA_1.32.0.tar.gz
PackageFileSize: 926.7 <A href="http://en.wikipedia.org/wiki/KiB" target="_blank">KiB</A>