##############################################################################
##############################################################################
###
### Running command:
###
###   rm -rf metaCCA.buildbin-libdir && mkdir metaCCA.buildbin-libdir && E:\biocbuild\bbs-3.19-bioc\R\bin\R.exe CMD INSTALL --build --library=metaCCA.buildbin-libdir metaCCA_1.32.0.tar.gz
###
##############################################################################
##############################################################################


* installing *source* package 'metaCCA' ...
** using staged installation
** R
** data
*** moving datasets to lazyload DB
** inst
** byte-compile and prepare package for lazy loading
** help
*** installing help indices
** building package indices
** installing vignettes
** testing if installed package can be loaded from temporary location
** testing if installed package can be loaded from final location
** testing if installed package keeps a record of temporary installation path
* MD5 sums
packaged installation of 'metaCCA' as metaCCA_1.32.0.zip
* DONE (metaCCA)