Package: meshr
Version: 2.10.0
Maintainer: Koki Tsuyuzaki
MaintainerEmail: k.t.the-answer at hotmail.co.jp
git_url: https://git.bioconductor.org/packages/meshr
git_branch: RELEASE_3_19
git_last_commit: 542e39c
git_last_commit_date: 2024-04-30 10:36:24 -0400 (Tue, 30 Apr 2024)