Package: memes
Version: 1.12.0
Command: F:\biocbuild\bbs-3.19-bioc\R\bin\R.exe CMD INSTALL memes
StartedAt: 2024-06-26 16:26:51 -0400 (Wed, 26 Jun 2024)
EndedAt: 2024-06-26 16:27:16 -0400 (Wed, 26 Jun 2024)
EllapsedTime: 25.2 seconds
RetCode: 0
Status: OK