Package: memes Version: 1.12.0 Command: rm -rf memes.buildbin-libdir && mkdir memes.buildbin-libdir && F:\biocbuild\bbs-3.19-bioc\R\bin\R.exe CMD INSTALL --build --library=memes.buildbin-libdir memes_1.12.0.tar.gz StartedAt: 2024-06-27 08:28:09 -0400 (Thu, 27 Jun 2024) EndedAt: 2024-06-27 08:28:47 -0400 (Thu, 27 Jun 2024) EllapsedTime: 37.5 seconds RetCode: 0 Status: OK PackageFile: memes_1.12.0.zip PackageFileSize: 1.126 <A href="http://en.wikipedia.org/wiki/MiB" target="_blank">MiB</A>