Package: memes
Version: 1.12.0
Command: /Library/Frameworks/R.framework/Resources/bin/R CMD build --keep-empty-dirs --no-resave-data memes
StartedAt: 2024-06-09 23:57:35 -0400 (Sun, 09 Jun 2024)
EndedAt: 2024-06-09 23:59:29 -0400 (Sun, 09 Jun 2024)
EllapsedTime: 113.6 seconds
RetCode: 0
Status: OK
PackageFile: memes_1.12.0.tar.gz
PackageFileSize: 1.118 <A href="http://en.wikipedia.org/wiki/MiB" target="_blank">MiB</A>