Package: memes
Version: 1.12.0
Command: rm -rf memes.buildbin-libdir && mkdir memes.buildbin-libdir && /Users/biocbuild/BBS/utils/build-universal.sh memes_1.12.0.tar.gz /Library/Frameworks/R.framework/Resources/bin/R memes.buildbin-libdir
StartedAt: 2024-06-11 11:56:56 -0400 (Tue, 11 Jun 2024)
EndedAt: 2024-06-11 11:57:26 -0400 (Tue, 11 Jun 2024)
EllapsedTime: 29.8 seconds
RetCode: 0
Status: OK
PackageFile: memes_1.12.0.tgz
PackageFileSize: 1.213 <A href="http://en.wikipedia.org/wiki/MiB" target="_blank">MiB</A>