Package: memes
Version: 1.12.1
Command: /Library/Frameworks/R.framework/Resources/bin/R CMD check --install=check:memes.install-out.txt --library=/Library/Frameworks/R.framework/Resources/library --no-vignettes --timings memes_1.12.1.tar.gz
StartedAt: 2024-10-18 03:01:46 -0400 (Fri, 18 Oct 2024)
EndedAt: 2024-10-18 03:04:11 -0400 (Fri, 18 Oct 2024)
EllapsedTime: 145.0 seconds
RetCode: 0
Status: WARNINGS
CheckDir: memes.Rcheck
Warnings: 1