Package: memes
Version: 1.12.1
Command: /Library/Frameworks/R.framework/Resources/bin/R CMD build --keep-empty-dirs --no-resave-data memes
StartedAt: 2024-10-17 03:44:05 -0400 (Thu, 17 Oct 2024)
EndedAt: 2024-10-17 03:45:25 -0400 (Thu, 17 Oct 2024)
EllapsedTime: 80.0 seconds
RetCode: 0
Status: OK
PackageFile: memes_1.12.1.tar.gz
PackageFileSize: 1.118 <A href="http://en.wikipedia.org/wiki/MiB" target="_blank">MiB</A>