Package: megadepth
Version: 1.14.0
Maintainer: David Zhang
MaintainerEmail: david.zhang.12 at ucl.ac.uk
git_url: https://git.bioconductor.org/packages/megadepth
git_branch: RELEASE_3_19
git_last_commit: 6ad74b4
git_last_commit_date: 2024-04-30 11:28:41 -0400 (Tue, 30 Apr 2024)