Package: mbQTL
Version: 1.4.0
Maintainer: Mercedeh Movassagh
MaintainerEmail: mercedeh.movassagh at yale.edu
git_url: https://git.bioconductor.org/packages/mbQTL
git_branch: RELEASE_3_19
git_last_commit: 397811c
git_last_commit_date: 2024-04-30 11:47:06 -0400 (Tue, 30 Apr 2024)