Package: marray
Version: 1.82.0
Command: E:\biocbuild\bbs-3.19-bioc\R\bin\R.exe CMD INSTALL marray
StartedAt: 2024-10-16 16:05:14 -0400 (Wed, 16 Oct 2024)
EndedAt: 2024-10-16 16:06:12 -0400 (Wed, 16 Oct 2024)
EllapsedTime: 57.4 seconds
RetCode: 0
Status: OK