Package: marray
Version: 1.82.0
Command: E:\biocbuild\bbs-3.19-bioc\R\bin\R.exe CMD check --no-multiarch --install=check:marray.install-out.txt --library=E:\biocbuild\bbs-3.19-bioc\R\library --no-vignettes --timings marray_1.82.0.tar.gz
StartedAt: 2024-10-17 02:55:09 -0400 (Thu, 17 Oct 2024)
EndedAt: 2024-10-17 02:56:16 -0400 (Thu, 17 Oct 2024)
EllapsedTime: 67.2 seconds
RetCode: 0
Status: OK
CheckDir: marray.Rcheck
Warnings: 0