Package: marray
Version: 1.82.0
Command: chmod a+r marray -R && F:\biocbuild\bbs-3.19-bioc\R\bin\R.exe CMD build --keep-empty-dirs --no-resave-data marray
StartedAt: 2024-06-26 19:49:05 -0400 (Wed, 26 Jun 2024)
EndedAt: 2024-06-26 19:50:25 -0400 (Wed, 26 Jun 2024)
EllapsedTime: 80.2 seconds
RetCode: 0
Status: OK
PackageFile: marray_1.82.0.tar.gz
PackageFileSize: 4.842 <A href="http://en.wikipedia.org/wiki/MiB" target="_blank">MiB</A>