Package: marray
Version: 1.82.0
Command: /Library/Frameworks/R.framework/Resources/bin/R CMD build --keep-empty-dirs --no-resave-data marray
StartedAt: 2024-10-16 20:30:30 -0400 (Wed, 16 Oct 2024)
EndedAt: 2024-10-16 20:32:53 -0400 (Wed, 16 Oct 2024)
EllapsedTime: 143.4 seconds
RetCode: 0
Status: OK
PackageFile: marray_1.82.0.tar.gz
PackageFileSize: 5.636 <A href="http://en.wikipedia.org/wiki/MiB" target="_blank">MiB</A>