Package: marray
Version: 1.82.0
Command: /home/biocbuild/R/R-beta-2024-04-15_r86425/bin/R CMD build --keep-empty-dirs --no-resave-data marray
StartedAt: 2024-05-09 01:21:05 -0000 (Thu, 09 May 2024)
EndedAt: 2024-05-09 01:21:43 -0000 (Thu, 09 May 2024)
EllapsedTime: 38.1 seconds
RetCode: 0
Status: OK
PackageFile: marray_1.82.0.tar.gz
PackageFileSize: 5.579 <A href="http://en.wikipedia.org/wiki/MiB" target="_blank">MiB</A>