Package: makecdfenv
Version: 1.80.0
Maintainer: James W. MacDonald
MaintainerEmail: jmacdon at u.washington.edu
git_url: https://git.bioconductor.org/packages/makecdfenv
git_branch: RELEASE_3_19
git_last_commit: 64c5aa3
git_last_commit_date: 2024-04-30 10:11:18 -0400 (Tue, 30 Apr 2024)