Package: made4
Version: 1.78.0
Maintainer: Aedin Culhane
MaintainerEmail: Aedin at jimmy.harvard.edu
git_url: https://git.bioconductor.org/packages/made4
git_branch: RELEASE_3_19
git_last_commit: 981e55a
git_last_commit_date: 2024-04-30 10:13:40 -0400 (Tue, 30 Apr 2024)