Package: m6Aboost
Version: 1.10.0
Command: chmod a+r m6Aboost -R && F:\biocbuild\bbs-3.19-bioc\R\bin\R.exe CMD build --keep-empty-dirs --no-resave-data m6Aboost
StartedAt: 2024-06-26 19:46:44 -0400 (Wed, 26 Jun 2024)
EndedAt: 2024-06-26 19:48:27 -0400 (Wed, 26 Jun 2024)
EllapsedTime: 103.5 seconds
RetCode: 0
Status: OK
PackageFile: m6Aboost_1.10.0.tar.gz
PackageFileSize: 759.7 <A href="http://en.wikipedia.org/wiki/KiB" target="_blank">KiB</A>