Package: m6Aboost
Version: 1.10.0
Command: rm -rf m6Aboost.buildbin-libdir && mkdir m6Aboost.buildbin-libdir && F:\biocbuild\bbs-3.19-bioc\R\bin\R.exe CMD INSTALL --build --library=m6Aboost.buildbin-libdir m6Aboost_1.10.0.tar.gz
StartedAt: 2024-06-27 08:26:15 -0400 (Thu, 27 Jun 2024)
EndedAt: 2024-06-27 08:27:23 -0400 (Thu, 27 Jun 2024)
EllapsedTime: 67.5 seconds
RetCode: 0
Status: OK
PackageFile: m6Aboost_1.10.0.zip
PackageFileSize: 578.6 <A href="http://en.wikipedia.org/wiki/KiB" target="_blank">KiB</A>