Package: m6Aboost
Version: 1.10.0
Command: /Library/Frameworks/R.framework/Resources/bin/R CMD INSTALL m6Aboost
StartedAt: 2024-06-09 17:11:07 -0400 (Sun, 09 Jun 2024)
EndedAt: 2024-06-09 17:12:13 -0400 (Sun, 09 Jun 2024)
EllapsedTime: 66.5 seconds
RetCode: 0
Status: OK