Package: m6Aboost
Version: 1.10.0
Command: rm -rf m6Aboost.buildbin-libdir && mkdir m6Aboost.buildbin-libdir && /Users/biocbuild/BBS/utils/build-universal.sh m6Aboost_1.10.0.tar.gz /Library/Frameworks/R.framework/Resources/bin/R m6Aboost.buildbin-libdir
StartedAt: 2024-06-11 11:51:31 -0400 (Tue, 11 Jun 2024)
EndedAt: 2024-06-11 11:52:57 -0400 (Tue, 11 Jun 2024)
EllapsedTime: 85.8 seconds
RetCode: 0
Status: OK
PackageFile: m6Aboost_1.10.0.tgz
PackageFileSize: 574.4 <A href="http://en.wikipedia.org/wiki/KiB" target="_blank">KiB</A>