Package: lpNet
Version: 2.36.0
Maintainer: Lars Kaderali
MaintainerEmail: lars.kaderali at uni-greifswald.de
git_url: https://git.bioconductor.org/packages/lpNet
git_branch: RELEASE_3_19
git_last_commit: 59da8ea
git_last_commit_date: 2024-04-30 10:30:31 -0400 (Tue, 30 Apr 2024)