Package: lfa
Version: 2.4.0
Command: /Library/Frameworks/R.framework/Resources/bin/R CMD check --install=check:lfa.install-out.txt --library=/Library/Frameworks/R.framework/Resources/library --no-vignettes --timings lfa_2.4.0.tar.gz
StartedAt: 2024-06-10 20:06:22 -0400 (Mon, 10 Jun 2024)
EndedAt: 2024-06-10 20:07:35 -0400 (Mon, 10 Jun 2024)
EllapsedTime: 72.2 seconds
RetCode: 0
Status: OK
CheckDir: lfa.Rcheck
Warnings: 0