Package: lfa Version: 2.4.0 Command: rm -rf lfa.buildbin-libdir && mkdir lfa.buildbin-libdir && /Users/biocbuild/BBS/utils/build-universal.sh lfa_2.4.0.tar.gz /Library/Frameworks/R.framework/Resources/bin/R lfa.buildbin-libdir StartedAt: 2024-06-11 11:49:11 -0400 (Tue, 11 Jun 2024) EndedAt: 2024-06-11 11:49:23 -0400 (Tue, 11 Jun 2024) EllapsedTime: 12.1 seconds RetCode: 0 Status: OK PackageFile: lfa_2.4.0.tgz PackageFileSize: 502 <A href="http://en.wikipedia.org/wiki/KiB" target="_blank">KiB</A>