Package: levi
Version: 1.22.0
Maintainer: Jose Luiz Rybarczyk Filho
MaintainerEmail: jose.luiz at unesp.br
git_url: https://git.bioconductor.org/packages/levi
git_branch: RELEASE_3_19
git_last_commit: 7e4ea10
git_last_commit_date: 2024-04-30 11:10:10 -0400 (Tue, 30 Apr 2024)