Package: kissDE
Version: 1.24.0
Maintainer: Aurélie Siberchicot
MaintainerEmail: aurelie.siberchicot at univ-lyon1.fr
git_url: https://git.bioconductor.org/packages/kissDE
git_branch: RELEASE_3_19
git_last_commit: e55aaa5
git_last_commit_date: 2024-04-30 11:03:55 -0400 (Tue, 30 Apr 2024)