Package: karyoploteR
Version: 1.30.0
Maintainer: Bernat Gel
MaintainerEmail: bgel at igtp.cat
git_url: https://git.bioconductor.org/packages/karyoploteR
git_branch: RELEASE_3_19
git_last_commit: 064c446
git_last_commit_date: 2024-04-30 10:56:05 -0400 (Tue, 30 Apr 2024)