Package: intansv
Version: 1.44.0
Command: /Library/Frameworks/R.framework/Resources/bin/R CMD INSTALL intansv
StartedAt: 2024-06-09 15:27:33 -0400 (Sun, 09 Jun 2024)
EndedAt: 2024-06-09 15:28:40 -0400 (Sun, 09 Jun 2024)
EllapsedTime: 67.0 seconds
RetCode: 0
Status: OK