Package: intansv
Version: 1.44.0
Command: /Library/Frameworks/R.framework/Resources/bin/R CMD INSTALL intansv
StartedAt: 2024-06-09 16:32:38 -0400 (Sun, 09 Jun 2024)
EndedAt: 2024-06-09 16:33:55 -0400 (Sun, 09 Jun 2024)
EllapsedTime: 76.6 seconds
RetCode: 0
Status: OK