Package: intansv
Version: 1.44.0
Command: /Library/Frameworks/R.framework/Resources/bin/R CMD build --keep-empty-dirs --no-resave-data intansv
StartedAt: 2024-06-09 23:17:21 -0400 (Sun, 09 Jun 2024)
EndedAt: 2024-06-09 23:19:51 -0400 (Sun, 09 Jun 2024)
EllapsedTime: 150.1 seconds
RetCode: 0
Status: OK
PackageFile: intansv_1.44.0.tar.gz
PackageFileSize: 614.3 <A href="http://en.wikipedia.org/wiki/KiB" target="_blank">KiB</A>